BEGIN:VCALENDAR
VERSION:2.0
PRODID:-//My Nutrition Inc. - ECPv6.15.20//NONSGML v1.0//EN
CALSCALE:GREGORIAN
METHOD:PUBLISH
X-WR-CALNAME:My Nutrition Inc.
X-ORIGINAL-URL:https://mynutritioninc.com
X-WR-CALDESC:Events for My Nutrition Inc.
REFRESH-INTERVAL;VALUE=DURATION:PT1H
X-Robots-Tag:noindex
X-PUBLISHED-TTL:PT1H
BEGIN:VTIMEZONE
TZID:America/New_York
BEGIN:DAYLIGHT
TZOFFSETFROM:-0500
TZOFFSETTO:-0400
TZNAME:EDT
DTSTART:20210314T070000
END:DAYLIGHT
BEGIN:STANDARD
TZOFFSETFROM:-0400
TZOFFSETTO:-0500
TZNAME:EST
DTSTART:20211107T060000
END:STANDARD
BEGIN:DAYLIGHT
TZOFFSETFROM:-0500
TZOFFSETTO:-0400
TZNAME:EDT
DTSTART:20220313T070000
END:DAYLIGHT
BEGIN:STANDARD
TZOFFSETFROM:-0400
TZOFFSETTO:-0500
TZNAME:EST
DTSTART:20221106T060000
END:STANDARD
BEGIN:DAYLIGHT
TZOFFSETFROM:-0500
TZOFFSETTO:-0400
TZNAME:EDT
DTSTART:20230312T070000
END:DAYLIGHT
BEGIN:STANDARD
TZOFFSETFROM:-0400
TZOFFSETTO:-0500
TZNAME:EST
DTSTART:20231105T060000
END:STANDARD
END:VTIMEZONE
BEGIN:VEVENT
DTSTART;TZID=America/New_York:20221117T183000
DTEND;TZID=America/New_York:20221117T200000
DTSTAMP:20260424T131247
CREATED:20221024T213313Z
LAST-MODIFIED:20221024T220631Z
UID:443-1668709800-1668715200@mynutritioninc.com
SUMMARY:Supporting Intuitive Eating
DESCRIPTION:Ready to have a wonderful relationship with food and your body? Join me on Thursday\, Nov. 17th through Zoom to learn principle one and two of Intuitive Eating. \n$30Zoom link will be sent out with your confirmation.Use coupon code 20%OFF when registering for a 20% savings for this class. Valid thru 11/01/22. \n			\n				REGISTER HERE
URL:https://mynutritioninc.com/event/supporting-intuitive-eating-workshop/
CATEGORIES:Zoom Event
END:VEVENT
END:VCALENDAR